BEGIN:VCALENDAR
VERSION:2.0
PRODID:-//Tukios.com/
BEGIN:VEVENT
UID:2563420b-01e5-4e2f-a300-949bb6a01f0e@www.millerfhc.com
DTSTAMP:20260422T190139Z
DTSTART:20260509T170000Z
DTEND:20260509T180000Z
SUMMARY:Celebration of Life
DESCRIPTION:
URL:https://www.millerfhc.com/obituaries/william-lawrence
LOCATION:Miller & Van Essendelft Gatesville 304 Main Street  Gatesville 
	NC 27938
GEO:36.4058067;-76.7532965
END:VEVENT
END:VCALENDAR