BEGIN:VCALENDAR
VERSION:2.0
PRODID:-//Tukios.com/
BEGIN:VEVENT
UID:91094b04-8bb3-4160-a92c-cc254bdfe4fd@www.millerfhc.com
DTSTAMP:20260422T005347Z
DTSTART:20260424T143000Z
DTEND:20260424T150000Z
SUMMARY:Visitation
DESCRIPTION:
URL:https://www.millerfhc.com/obituaries/shirley-jean-roberts-sample
LOCATION: 1101 Peartree Road  Elizabeth City NC 27909
GEO:36.290112;-76.223759
END:VEVENT
END:VCALENDAR