BEGIN:VCALENDAR
VERSION:2.0
PRODID:-//Tukios.com/
BEGIN:VEVENT
UID:f46a6cb1-b7a9-434d-8ad7-107215878815@www.millerfhc.com
DTSTAMP:20260422T004922Z
DTSTART:20260424T150000Z
DTEND:20260424T160000Z
SUMMARY:Graveside Service
DESCRIPTION:
URL:https://www.millerfhc.com/obituaries/shirley-jean-roberts-sample
LOCATION: 1101 Peartree Road  Elizabeth City NC 27909
GEO:36.290112;-76.223759
END:VEVENT
END:VCALENDAR