BEGIN:VCALENDAR
VERSION:2.0
PRODID:-//Tukios.com/
BEGIN:VEVENT
UID:bb1ee24d-f2c2-4984-a4fd-b2591b96e19d@www.millerfhc.com
DTSTAMP:20260424T023331Z
DTSTART:20260425T160000Z
DTEND:20260425T170000Z
SUMMARY:Funeral Service
DESCRIPTION:
URL:https://www.millerfhc.com/obituaries/pauline-griffin
LOCATION:Miller & Van Essendelft Funeral Home Chapel 735 Virginia Road  
	Edenton NC 27932
GEO:36.0895136;-76.6317573
END:VEVENT
END:VCALENDAR