BEGIN:VCALENDAR
VERSION:2.0
PRODID:-//Tukios.com/
BEGIN:VEVENT
UID:a8c95423-4983-42a9-b36e-b8c452bf45ab@www.millerfhc.com
DTSTAMP:20260424T023305Z
DTSTART:20260425T150000Z
DTEND:20260425T160000Z
SUMMARY:Visitation
DESCRIPTION:
URL:https://www.millerfhc.com/obituaries/pauline-griffin
LOCATION:Miller & Van Essendelft Funeral Home Chapel 735 Virginia Road  
	Edenton NC 27932
GEO:36.0895136;-76.6317573
END:VEVENT
END:VCALENDAR