BEGIN:VCALENDAR
VERSION:2.0
PRODID:-//Tukios.com/
BEGIN:VEVENT
UID:60d3c40e-2286-402c-b392-05c2f6a4d88b@www.millerfhc.com
DTSTAMP:20260421T005545Z
DTSTART:20260425T200000Z
DTEND:20260425T210000Z
SUMMARY:Funeral Service
DESCRIPTION:
URL:https://www.millerfhc.com/obituaries/jane-nowell
LOCATION: 735 Virginia Rd  Edenton NC 27932
GEO:36.0895136;-76.6317573
END:VEVENT
END:VCALENDAR