BEGIN:VCALENDAR
VERSION:2.0
PRODID:-//Tukios.com/
BEGIN:VEVENT
UID:a314e1e9-ee81-4ba7-bea9-0401d690cad8@www.millerfhc.com
DTSTAMP:20260421T005315Z
DTSTART:20260425T190000Z
DTEND:20260425T200000Z
SUMMARY:Visitation
DESCRIPTION:
URL:https://www.millerfhc.com/obituaries/jane-nowell
LOCATION: 735 Virginia Rd  Edenton NC 27932
GEO:36.0895136;-76.6317573
END:VEVENT
END:VCALENDAR