BEGIN:VCALENDAR
VERSION:2.0
PRODID:-//Tukios.com/
BEGIN:VEVENT
UID:28910e3d-c0b4-4543-947f-3ecd0083a64e@www.millerfhc.com
DTSTAMP:20260419T140119Z
DTSTART:20260421T150000Z
DTEND:20260421T160000Z
SUMMARY:Memorial Service
DESCRIPTION:
URL:https://www.millerfhc.com/obituaries/elizabeth-jones
LOCATION:Berea Baptist Church 2033 North Road Street  Elizabeth City NC 
	27909
GEO:36.3518688;-76.270676
END:VEVENT
END:VCALENDAR