BEGIN:VCALENDAR
VERSION:2.0
PRODID:-//Tukios.com/
BEGIN:VEVENT
UID:c1343318-0d4b-4d90-bdf3-21461e688107@www.millerfhc.com
DTSTAMP:20260419T140402Z
DTSTART:20260421T160000Z
DTEND:20260421T170000Z
SUMMARY:Visitation
DESCRIPTION:
URL:https://www.millerfhc.com/obituaries/elizabeth-jones
LOCATION:Berea Baptist Church Family Life Center 2033 North Road Street  
	Elizabeth City NC 27909
GEO:36.3519705;-76.2707433
END:VEVENT
END:VCALENDAR