BEGIN:VCALENDAR
VERSION:2.0
PRODID:-//Tukios.com/
BEGIN:VEVENT
UID:cacf1240-0e8f-401a-bd97-694bff007ed8@www.millerfhc.com
DTSTAMP:20260421T044736Z
DTSTART:20260504T150000Z
DTEND:20260504T160000Z
SUMMARY:Graveside Service
DESCRIPTION:
URL:https://www.millerfhc.com/obituaries/benjamin-hernandez
LOCATION:Beaver Hill Cemetery 476 Doctor Martin Luther King Junior Avenue 
	 Edenton NC 27932
GEO:36.0647792;-76.6167155
END:VEVENT
END:VCALENDAR